BEGIN:VCALENDAR
VERSION:2.0
PRODID:-//Marinekameradschaft Bad Hersfeld 1920 e.V. - ECPv6.15.20//NONSGML v1.0//EN
CALSCALE:GREGORIAN
METHOD:PUBLISH
X-ORIGINAL-URL:https://www.mkhef.de
X-WR-CALDESC:Veranstaltungen für Marinekameradschaft Bad Hersfeld 1920 e.V.
REFRESH-INTERVAL;VALUE=DURATION:PT1H
X-Robots-Tag:noindex
X-PUBLISHED-TTL:PT1H
BEGIN:VTIMEZONE
TZID:UTC
BEGIN:STANDARD
TZOFFSETFROM:+0000
TZOFFSETTO:+0000
TZNAME:UTC
DTSTART:20250101T000000
END:STANDARD
END:VTIMEZONE
BEGIN:VEVENT
DTSTART;TZID=UTC:20260606T150000
DTEND;TZID=UTC:20260606T210000
DTSTAMP:20260419T135310
CREATED:20260326T095532Z
LAST-MODIFIED:20260326T095532Z
UID:3885-1780758000-1780779600@www.mkhef.de
SUMMARY:Sommerfest mit den Gold Miners
DESCRIPTION:
URL:https://www.mkhef.de/event/sommerfest-mit-den-gold-miners/
LOCATION:Vereinsheim Marinekameradschaft von 1920 e.V. Bad Hersfeld\, Europaallee / Vorm Laufholz\, Bad Hersfeld\, Hessen\, 36251
END:VEVENT
END:VCALENDAR