BEGIN:VCALENDAR
VERSION:2.0
PRODID:-//Marinekameradschaft Bad Hersfeld 1920 e.V. - ECPv6.15.20//NONSGML v1.0//EN
CALSCALE:GREGORIAN
METHOD:PUBLISH
X-WR-CALNAME:Marinekameradschaft Bad Hersfeld 1920 e.V.
X-ORIGINAL-URL:https://www.mkhef.de
X-WR-CALDESC:Veranstaltungen für Marinekameradschaft Bad Hersfeld 1920 e.V.
REFRESH-INTERVAL;VALUE=DURATION:PT1H
X-Robots-Tag:noindex
X-PUBLISHED-TTL:PT1H
BEGIN:VTIMEZONE
TZID:UTC
BEGIN:STANDARD
TZOFFSETFROM:+0000
TZOFFSETTO:+0000
TZNAME:UTC
DTSTART:20250101T000000
END:STANDARD
END:VTIMEZONE
BEGIN:VEVENT
DTSTART;TZID=UTC:20260822T153000
DTEND;TZID=UTC:20260822T163000
DTSTAMP:20260425T104627
CREATED:20260410T161605Z
LAST-MODIFIED:20260410T161609Z
UID:3898-1787412600-1787416200@www.mkhef.de
SUMMARY:Stadtteilfest Johannesberg
DESCRIPTION:Stadtteilfest Johannesberg 2026
URL:https://www.mkhef.de/event/stadtteilfest-johannesberg/
LOCATION:Johannesberg Bad Hersfeld\, Bad Hersfeld\, 36251\, Germany
END:VEVENT
END:VCALENDAR